BEGIN:VCALENDAR
VERSION:2.0
PRODID:-//Red Asesores Inmobiliarios - ECPv6.15.20//NONSGML v1.0//EN
CALSCALE:GREGORIAN
METHOD:PUBLISH
X-ORIGINAL-URL:https://redasesoresinmobiliarios.com
X-WR-CALDESC:Eventos para Red Asesores Inmobiliarios
REFRESH-INTERVAL;VALUE=DURATION:PT1H
X-Robots-Tag:noindex
X-PUBLISHED-TTL:PT1H
BEGIN:VTIMEZONE
TZID:America/Mexico_City
BEGIN:DAYLIGHT
TZOFFSETFROM:-0600
TZOFFSETTO:-0500
TZNAME:CDT
DTSTART:20220403T080000
END:DAYLIGHT
BEGIN:STANDARD
TZOFFSETFROM:-0500
TZOFFSETTO:-0600
TZNAME:CST
DTSTART:20221030T070000
END:STANDARD
END:VTIMEZONE
BEGIN:VEVENT
DTSTART;TZID=America/Mexico_City:20230131T081500
DTEND;TZID=America/Mexico_City:20230131T103000
DTSTAMP:20260425T061945
CREATED:20230123T172702Z
LAST-MODIFIED:20230127T173840Z
UID:35658-1675152900-1675161000@redasesoresinmobiliarios.com
SUMMARY:Capacitación para Inmobiliarios en Puebla / Enero 2023
DESCRIPTION:Red Asesores Inmobiliarios te invita a asistir a nuestra capacitación del mes de enero 2023 con el tema: \nASEGURAMIENTO DE INMUEBLES (Riegos reales y solución). \nPonentes: \n\nLic. Jonathan Flores – Director Jurídico de Póliza Jurídica y experto en arrendamiento inmobiliario.\nMtra. Nelly Vega – Consultoría de representaciones a nivel nacional de Póliza Jurídica. Apoyo de capacitaciones de asesores e inmobiliarias.\n\n  \n  \nAGENDA: \n8:15 am – Inicia registro \n8:45 am – Informe de Mesa Directiva \n9:00 am – Presentación del tema: ASEGURAMIENTO DE INMUEBLES (Riegos reales y solución). \n  \nFavor de realizar su pago con anticipación tenemos CUPO LIMITADO. \nEl día del evento no se aceptan pagos. \n  \nCosto (incluye desayuno): \nAsociados $ 190.00 \nInvitados $ 240.00 \n  \nDepósitos en BANORTE a la cuenta # 1087977216\, CLABE: 0726-5001-0879-7721-60\, Número de Tarjeta: 4189-2810-4541-9331  a nombre de REDIM Puebla\, A.C. \nTambién puedes hacer depósitos en: Farmacias Guadalajara\, Farmacias del Ahorro\, 7 eleven\, Soriana o Chedraui. \nDespués de realizar tu pago favor de llenar el siguiente registro:\nError: Formulario de contacto no encontrado. \nInformes: (222) 152-7401 \n  \n  \n  \n  \n  \n  \n 
URL:https://redasesoresinmobiliarios.com/evento/capacitacion-para-inmobiliarios-en-puebla-enero-2023/
LOCATION:VIP’s Las Ánimas\, Blvd. Atlixco 3125\, Nueva Antequera\, Puebla\, Pue\, 72180\, México
CATEGORIES:Desayuno/Capacitación
ATTACH;FMTTYPE=image/jpeg:https://redasesoresinmobiliarios.com/wp-content/uploads/2023/01/Desayuno-capacitacion-Inmobiliarios-Puebla-600x317-1.jpg
END:VEVENT
END:VCALENDAR