BEGIN:VCALENDAR
VERSION:2.0
PRODID:-//Red Asesores Inmobiliarios - ECPv6.15.20//NONSGML v1.0//EN
CALSCALE:GREGORIAN
METHOD:PUBLISH
X-ORIGINAL-URL:https://redasesoresinmobiliarios.com
X-WR-CALDESC:Eventos para Red Asesores Inmobiliarios
REFRESH-INTERVAL;VALUE=DURATION:PT1H
X-Robots-Tag:noindex
X-PUBLISHED-TTL:PT1H
BEGIN:VTIMEZONE
TZID:America/Mexico_City
BEGIN:DAYLIGHT
TZOFFSETFROM:-0600
TZOFFSETTO:-0500
TZNAME:CDT
DTSTART:20220403T080000
END:DAYLIGHT
BEGIN:STANDARD
TZOFFSETFROM:-0500
TZOFFSETTO:-0600
TZNAME:CST
DTSTART:20221030T070000
END:STANDARD
END:VTIMEZONE
BEGIN:VEVENT
DTSTART;TZID=America/Mexico_City:20230330T173000
DTEND;TZID=America/Mexico_City:20230330T173000
DTSTAMP:20260423T103035
CREATED:20230324T233753Z
LAST-MODIFIED:20230324T233949Z
UID:36349-1680197400-1680197400@redasesoresinmobiliarios.com
SUMMARY:Networking Inmobiliario en Puebla - Marzo 2023
DESCRIPTION:¡En Red Asesores Inmobiliarios nos complace invitarte a nuestro evento de Networking Inmobiliario en Puebla!\nNo dejes pasar esta excelente oportunidad de establecer contactos con profesionales del sector inmobiliario\, compartir experiencias y explorar nuevas oportunidades de negocio. \nEstamos seguros de que este evento será un espacio enriquecedor e inspirador para todos los participantes. \nNo olvides traer tus tarjetas de presentación\, flyers\, etc. que quieras compartir con otros colegas. \n  \nDetalles del evento: \n📅 Fecha: 30 de marzo de 2023 \n🕠 Hora: 5:30 pm \n📍 Lugar: Bar del Hotel Wyndham Puebla Angelópolis \n🍸 Promoción: 2×1 en coctelería clásica y de la casa (que ofrece el hotel sólo los jueves) \n👥 Evento abierto a todos los inmobiliarios en Puebla \n💲Cada asistente será responsable de cubrir sus propios gastos\, lo que te brinda la libertad de elegir lo que deseas consumir. \n  \nPara asegurar una correcta organización del evento por favor confirma enviando un WhatsApp en el botón de abajo\, no olvides incluir tu nombre o nombres de asistentes. \n \n  \n  \n  \n¡Te esperamos con entusiasmo en nuestro Networking Inmobiliario! \n¡Juntos\, construyamos un futuro próspero en el sector inmobiliario en Puebla!
URL:https://redasesoresinmobiliarios.com/evento/networking-inmobiliario-en-puebla-marzo-2023/
LOCATION:Hotel Wyndham Angelópolis\, Av Zeta del Cochero 403\, Reserva Territorial Atlixcáyotl\, Corredor Comercial Desarrollo Atlixcayotl\, Puebla\, Puebla\, 72810\, México
CATEGORIES:Networking
ATTACH;FMTTYPE=image/jpeg:https://redasesoresinmobiliarios.com/wp-content/uploads/2023/03/Networking-Inmobiliario-en-Puebla-Marzo-2023_300.jpg
END:VEVENT
END:VCALENDAR