BEGIN:VCALENDAR
VERSION:2.0
PRODID:-//Red Asesores Inmobiliarios - ECPv6.15.20//NONSGML v1.0//EN
CALSCALE:GREGORIAN
METHOD:PUBLISH
X-ORIGINAL-URL:https://redasesoresinmobiliarios.com
X-WR-CALDESC:Eventos para Red Asesores Inmobiliarios
REFRESH-INTERVAL;VALUE=DURATION:PT1H
X-Robots-Tag:noindex
X-PUBLISHED-TTL:PT1H
BEGIN:VTIMEZONE
TZID:America/Mexico_City
BEGIN:DAYLIGHT
TZOFFSETFROM:-0600
TZOFFSETTO:-0500
TZNAME:CDT
DTSTART:20220403T080000
END:DAYLIGHT
BEGIN:STANDARD
TZOFFSETFROM:-0500
TZOFFSETTO:-0600
TZNAME:CST
DTSTART:20221030T070000
END:STANDARD
END:VTIMEZONE
BEGIN:VEVENT
DTSTART;TZID=America/Mexico_City:20231110T200000
DTEND;TZID=America/Mexico_City:20231110T200000
DTSTAMP:20260421T145707
CREATED:20230919T010537Z
LAST-MODIFIED:20231109T042550Z
UID:40055-1699646400-1699646400@redasesoresinmobiliarios.com
SUMMARY:Cena Día del Inmobiliario 2023 - Puebla
DESCRIPTION:🌟✨ ¡SE ACERCA EL EVENTO INMOBILIARIO DEL AÑO! ✨🌟 \n  \n¡La fiesta que todos esperábamos! Adagi Puebla\, Bolsa Inmobiliaria y Red Asesores Inmobiliarios tienen el honor de invitarte a celebrar el Día del Inmobiliario en grande. \n¡Es hora de reunirnos\, brindar por nuestros éxitos y reencontrarte con los colegas y amigos! \n🥂 Cena\, baile y muchas SORPRESAS 🎁 \n🎤 Música en vivo con la Sonora Dinamita\, Banda La Selectiva\, y DJ que hará vibrar la pista de baile 💃🕺 \n  \n📌 Detalles del evento: \n\n📆 Fecha: 10 de noviembre de 2023\n⏰ Hora: 8:00pm\n📍 Lugar: Salón Los Girasoles\, Cholula Puebla\n\n  \nBoletos: \nCUPO LLENO  – CUPO LLENO – CUPO LLENO\nDudas al (222) 152-7401.
URL:https://redasesoresinmobiliarios.com/evento/cena-dia-del-inmobiliario-2023-puebla/
LOCATION:Salón Los Girasoles\, Av. 5 de Mayo # 1408\, San Andrés Cholula\, Puebla\, 72810\, México
CATEGORIES:Otro(s)
ATTACH;FMTTYPE=image/jpeg:https://redasesoresinmobiliarios.com/wp-content/uploads/2023/09/dia_del_inmobiliario_2023_300.jpg
END:VEVENT
END:VCALENDAR