BEGIN:VCALENDAR
VERSION:2.0
PRODID:-//Red Asesores Inmobiliarios - ECPv6.15.20//NONSGML v1.0//EN
CALSCALE:GREGORIAN
METHOD:PUBLISH
X-WR-CALNAME:Red Asesores Inmobiliarios
X-ORIGINAL-URL:https://redasesoresinmobiliarios.com
X-WR-CALDESC:Eventos para Red Asesores Inmobiliarios
REFRESH-INTERVAL;VALUE=DURATION:PT1H
X-Robots-Tag:noindex
X-PUBLISHED-TTL:PT1H
BEGIN:VTIMEZONE
TZID:America/Mexico_City
BEGIN:STANDARD
TZOFFSETFROM:-0600
TZOFFSETTO:-0600
TZNAME:CST
DTSTART:20230101T000000
END:STANDARD
END:VTIMEZONE
BEGIN:VEVENT
DTSTART;TZID=America/Mexico_City:20240312T081500
DTEND;TZID=America/Mexico_City:20240312T103000
DTSTAMP:20260421T074513
CREATED:20240301T015237Z
LAST-MODIFIED:20240309T184333Z
UID:47216-1710231300-1710239400@redasesoresinmobiliarios.com
SUMMARY:Desayuno - capacitación para Inmobiliarios - Marzo 2024
DESCRIPTION:Red Asesores Inmobiliarios invita a los inmobiliarios en Puebla a su desayuno capacitación del mes de marzo 2024. \nFecha: 12 de marzo de 2024\nHora: 8:15 am Registro | 8:30 am Inicio de la Capacitación\nLugar: Hotel Wyndham Puebla Angelópolis \nCosto:  \nSocios $260.00 \nInvitados $300.00 \n(Fecha límite de pago viernes 8 de marzo) \nEl día del evento no se aceptan pagos. \n  \nEn un mundo donde el sector inmobiliario se encuentra en constante evolución\, es imperativo para los profesionales del ramo mantenerse actualizados sobre las últimas normativas y prácticas de gestión urbana. Es por esto que Red Asesores Inmobiliarios se enorgullece en organizar un evento exclusivo para sus socios\, diseñado para sumergirlos en el corazón de la normatividad y gestión urbana aplicables al sector inmobiliario. \nTema: Normatividad y Gestión Urbana para Inmobiliarios (segunda parte) \nDurante este evento\, tendrás la oportunidad única de: \n\nExplorar los Criterios y Normativas: Conoceremos a detalle los criterios y normativas clave al seleccionar un predio en desarrollo\, asegurando que tus inversiones y proyectos estén alineados con las regulaciones actuales.\nProblemática y Gestiones Urbanas: Discutiremos las complejidades y los retos de la gestión urbana en la venta de predios e inmuebles\, proporcionando soluciones prácticas para navegar en este dinámico entorno.\nEntender Conceptos Críticos: Profundizaremos en conceptos esenciales como el uso de suelo\, densidad\, COS (Coeficiente de Ocupación del Suelo)\, CUS (Coeficiente de Utilización del Suelo)\, y CAS (Coeficiente de Área Libre)\, herramientas fundamentales para el éxito en el sector inmobiliario.\n\nPonente: Estamos honrados de contar con la presencia del distinguido DUA Jorge Cuautle Sánchez\, quien compartirá su vasta experiencia y conocimientos profundos en la materia. \nPresentación: Ciudad Maderas nos compartirá una oferta especial para asociados de Red Asesores Inmobiliarios. \nEste evento no solo es una capacitación\, es una inversión en tu futuro profesional dentro del sector inmobiliario. Las plazas son limitadas para garantizar una experiencia de aprendizaje de alta calidad tenemos como fecha límite de pago y registro el viernes  8 de marzo 2024. \nRed Asesores Inmobiliarios: Comprometidos con la excelencia y el desarrollo profesional de nuestros socios. \n  \nCUPO LLENO – CUPO LLENO – CUPO LLENO
URL:https://redasesoresinmobiliarios.com/evento/capacitacion-inmobiliarios-marzo-2024/
LOCATION:Hotel Wyndham Angelópolis\, Av Zeta del Cochero 403\, Reserva Territorial Atlixcáyotl\, Corredor Comercial Desarrollo Atlixcayotl\, Puebla\, Puebla\, 72810\, México
CATEGORIES:Desayuno/Capacitación
ATTACH;FMTTYPE=image/jpeg:https://redasesoresinmobiliarios.com/wp-content/uploads/2024/02/desayuno-marzo-RV12024_300.jpg
END:VEVENT
END:VCALENDAR