BEGIN:VCALENDAR
VERSION:2.0
PRODID:-//Red Asesores Inmobiliarios - ECPv6.15.20//NONSGML v1.0//EN
CALSCALE:GREGORIAN
METHOD:PUBLISH
X-ORIGINAL-URL:https://redasesoresinmobiliarios.com
X-WR-CALDESC:Eventos para Red Asesores Inmobiliarios
REFRESH-INTERVAL;VALUE=DURATION:PT1H
X-Robots-Tag:noindex
X-PUBLISHED-TTL:PT1H
BEGIN:VTIMEZONE
TZID:America/Mexico_City
BEGIN:DAYLIGHT
TZOFFSETFROM:-0600
TZOFFSETTO:-0500
TZNAME:CDT
DTSTART:20220403T080000
END:DAYLIGHT
BEGIN:STANDARD
TZOFFSETFROM:-0500
TZOFFSETTO:-0600
TZNAME:CST
DTSTART:20221030T070000
END:STANDARD
END:VTIMEZONE
BEGIN:VEVENT
DTSTART;TZID=America/Mexico_City:20230404T084500
DTEND;TZID=America/Mexico_City:20230404T123000
DTSTAMP:20260421T093159
CREATED:20230331T165104Z
LAST-MODIFIED:20230331T165253Z
UID:36368-1680597900-1680611400@redasesoresinmobiliarios.com
SUMMARY:Curso: NOM-247-SE 2021 todo lo que debes saber para su cumplimiento
DESCRIPTION:Red Asesores Inmobiliarios invita al curso: \n  \nNOM-247-SE 2021 todo lo que debes saber para su cumplimiento\n  \n📅 Fecha 1: 4 de abril \n📅 Fecha 2: 11 de abril \n⏰ Horario: 8:45 a.m. a 12:30 p.m. \nRecuerda que solo necesitas asistir a una de las dos fechas ofrecidas. \n📍 Lugar: Calle Emiliano Zapata 4726\, Colonia San Baltazar Campeche\, Puebla. CP. 72550 \nPrecio:\n$ 600 (miembro activo de RED\, ADAGI o Bolsa Inmobiliaria).\n$ 800 (general) \nPago en efectivo al llegar. \n  \nSe les pide puntualidad y atención plena (no mensajear\, no contestar llamadas) \n¡¡ CUPO LIMITADO ‼️ \nReserva tu lugar con Mabel Fierro al teléfono: (222) 135-1957 \no envía mensaje aquí: \n \n 
URL:https://redasesoresinmobiliarios.com/evento/curso-nom-247-se-2021-todo-lo-que-debes-saber-para-su-cumplimiento/
LOCATION:Puebla
CATEGORIES:Capacitación
ATTACH;FMTTYPE=image/jpeg:https://redasesoresinmobiliarios.com/wp-content/uploads/2023/03/nom-247-SQ.jpg
END:VEVENT
END:VCALENDAR