BEGIN:VCALENDAR
VERSION:2.0
PRODID:-//Red Asesores Inmobiliarios - ECPv6.15.20//NONSGML v1.0//EN
CALSCALE:GREGORIAN
METHOD:PUBLISH
X-WR-CALNAME:Red Asesores Inmobiliarios
X-ORIGINAL-URL:https://redasesoresinmobiliarios.com
X-WR-CALDESC:Eventos para Red Asesores Inmobiliarios
REFRESH-INTERVAL;VALUE=DURATION:PT1H
X-Robots-Tag:noindex
X-PUBLISHED-TTL:PT1H
BEGIN:VTIMEZONE
TZID:America/Mexico_City
BEGIN:DAYLIGHT
TZOFFSETFROM:-0600
TZOFFSETTO:-0500
TZNAME:CDT
DTSTART:20220403T080000
END:DAYLIGHT
BEGIN:STANDARD
TZOFFSETFROM:-0500
TZOFFSETTO:-0600
TZNAME:CST
DTSTART:20221030T070000
END:STANDARD
END:VTIMEZONE
BEGIN:VEVENT
DTSTART;TZID=America/Mexico_City:20231121T090000
DTEND;TZID=America/Mexico_City:20231121T110000
DTSTAMP:20260421T000557
CREATED:20231120T171655Z
LAST-MODIFIED:20231120T171746Z
UID:42923-1700557200-1700564400@redasesoresinmobiliarios.com
SUMMARY:Capacitación: ¡Actualízate con INFONAVIT y FOVISSSTE!
DESCRIPTION:¡Actualízate con INFONAVIT y FOVISSSTE!\n\n\n¿Quieres aprender más sobre los beneficios y requisitos de los créditos INFONAVIT y FOVISSSTE? No te pierdas el evento Actualízate con INFONAVIT y FOVISSSTE\, donde el ponente Víctor Javier Albarrán de Regil\, experto en los temas de INFONAVIT y FOVISSSTE\, te explicará todo lo que necesitas saber para aprovechar estas opciones de financiamiento.\n\n\nDetalles del evento:\n\n Fecha: Martes 21 de noviembre de 2023\n Horario: 9:00 am – 11:00 am\n Lugar: 21 Poniente #3701\, Col. Belisario Domínguez\, Puebla\, Pue.\n Evento gratuito\n Registro obligatorio (Cupo limitado) AQUÍ: https://forms.gle/9NZhSQZVqhe6XFva7\n Coffee break\n\n\nNo dejes pasar esta oportunidad de actualizarte y resolver tus dudas sobre los créditos INFONAVIT y FOVISSSTE. Para registrarte o solicitar más información\, envía un mensaje al (222) 299-2928.\n\n\n¡Te esperamos! \n\n\n#ActualízateConINFONAVITyFOVISSSTE #EducaciónFinanciera #RedAsesoresInmobiliarios
URL:https://redasesoresinmobiliarios.com/evento/capacitacion-actualizate-con-infonavit-y-fovissste/
LOCATION:Puebla
CATEGORIES:Capacitación
ATTACH;FMTTYPE=image/jpeg:https://redasesoresinmobiliarios.com/wp-content/uploads/2023/11/capacitacion-infonavit-fovisste-_SQ_300-jpg.webp
END:VEVENT
END:VCALENDAR