BEGIN:VCALENDAR
VERSION:2.0
PRODID:-//Red Asesores Inmobiliarios - ECPv6.15.20//NONSGML v1.0//EN
CALSCALE:GREGORIAN
METHOD:PUBLISH
X-ORIGINAL-URL:https://redasesoresinmobiliarios.com
X-WR-CALDESC:Eventos para Red Asesores Inmobiliarios
REFRESH-INTERVAL;VALUE=DURATION:PT1H
X-Robots-Tag:noindex
X-PUBLISHED-TTL:PT1H
BEGIN:VTIMEZONE
TZID:America/Mexico_City
BEGIN:DAYLIGHT
TZOFFSETFROM:-0600
TZOFFSETTO:-0500
TZNAME:CDT
DTSTART:20220403T080000
END:DAYLIGHT
BEGIN:STANDARD
TZOFFSETFROM:-0500
TZOFFSETTO:-0600
TZNAME:CST
DTSTART:20221030T070000
END:STANDARD
END:VTIMEZONE
BEGIN:VEVENT
DTSTART;TZID=America/Mexico_City:20231128T090000
DTEND;TZID=America/Mexico_City:20231128T110000
DTSTAMP:20260420T224803
CREATED:20231124T150604Z
LAST-MODIFIED:20231124T175150Z
UID:43029-1701162000-1701169200@redasesoresinmobiliarios.com
SUMMARY:Capacitación: Actualízate con INFONAVIT y FOVISSSTE - 28 Nov
DESCRIPTION:¡Nueva Oportunidad para Actualizarte! – Fecha Adicional el Martes 28 de Noviembre \n🌟 Capacitación: Actualízate con INFONAVIT y FOVISSSTE 🌟 \n¿Deseas profundizar en los beneficios y requisitos de los créditos INFONAVIT y FOVISSSTE? \n¡Tenemos una excelente noticia! Hemos añadido una nueva fecha para el evento Actualízate con INFONAVIT y FOVISSSTE. No pierdas la oportunidad de escuchar a Víctor Javier Albarrán de Regil\, un reconocido experto en INFONAVIT y FOVISSSTE\, quien te ofrecerá información valiosa y consejos prácticos para maximizar las ventajas de estas opciones de financiamiento. \n  \n📌 Detalles Actualizados del Evento: \n  \n\n📅 NUEVA FECHA: Martes 28 de noviembre de 2023\n⌚ Horario: 9:00 am – 11:00 am\n📍 Ubicación: 21 Poniente #3701\, Col. Belisario Domínguez\, Puebla\, Pue.\n🆓 Entrada Gratuita\n📝 Registro Previo Obligatorio (Cupo Limitado). ¡Regístrate ahora aquí!: https://forms.gle/wN2ixRq63LXYzoTj6\n☕ Incluye Coffee Break\n\n📣 ¡No te quedes fuera! \nEsta es tu oportunidad para aclarar todas tus dudas sobre los créditos INFONAVIT y FOVISSSTE y mantenerte al día con las últimas actualizaciones. Para inscribirte o solicitar más información\, contacta al (222) 299-2928. \n¡Te esperamos con entusiasmo en esta fecha adicional! 🙌
URL:https://redasesoresinmobiliarios.com/evento/capacitacion-actualizate-con-infonavit-y-fovissste-28-nov/
LOCATION:Puebla
CATEGORIES:Capacitación
ATTACH;FMTTYPE=image/jpeg:https://redasesoresinmobiliarios.com/wp-content/uploads/2023/11/infonavit-fovissste-28-Nov-SQ_300-jpg.webp
END:VEVENT
END:VCALENDAR