BEGIN:VCALENDAR
VERSION:2.0
PRODID:-//Red Asesores Inmobiliarios - ECPv6.15.20//NONSGML v1.0//EN
CALSCALE:GREGORIAN
METHOD:PUBLISH
X-WR-CALNAME:Red Asesores Inmobiliarios
X-ORIGINAL-URL:https://redasesoresinmobiliarios.com
X-WR-CALDESC:Eventos para Red Asesores Inmobiliarios
REFRESH-INTERVAL;VALUE=DURATION:PT1H
X-Robots-Tag:noindex
X-PUBLISHED-TTL:PT1H
BEGIN:VTIMEZONE
TZID:America/Mexico_City
BEGIN:DAYLIGHT
TZOFFSETFROM:-0600
TZOFFSETTO:-0500
TZNAME:CDT
DTSTART:20220403T080000
END:DAYLIGHT
BEGIN:STANDARD
TZOFFSETFROM:-0500
TZOFFSETTO:-0600
TZNAME:CST
DTSTART:20221030T070000
END:STANDARD
END:VTIMEZONE
BEGIN:VEVENT
DTSTART;TZID=America/Mexico_City:20230308T083000
DTEND;TZID=America/Mexico_City:20230308T083000
DTSTAMP:20260421T120506
CREATED:20230303T004029Z
LAST-MODIFIED:20230303T011200Z
UID:36188-1678264200-1678264200@redasesoresinmobiliarios.com
SUMMARY:Curso: La Ética Como Forma De Vida En El Ámbito Inmobiliario
DESCRIPTION:BIP Bolsa Inmobiliaria Puebla\, ADAGI Puebla y Red de Asesores Inmobiliarios \nTe invitan al curso de “LA ÉTICA COMO FORMA DE VIDA EN EL ÁMBITO INMOBILIARIO”\nImpartido por el Licenciado Héctor Hophann Torres \nDescubre la importancia a la que se debe un Profesional Inmobiliario al ofrecer un servicio de alta calidad a sus clientes. \nMiércoles 8 de marzo 8:30 hrs. en el hotel Wyndham Puebla Palmas Angelópolis (MAPA) \nCuota de recuperación $300\nSocios $250.00 \nCuenta para depósitos para el evento:\nBanco: HSBC\nTitular: Bolsa Inmobiliaria de Puebla S. C.\nCuenta: 4063722193\nClabe: 021650040637221939 \nFavor de registrarlo tu pago al WhatsApp\n222 813 6942 con tu nombre en el comprobante \n¡NO FALTES! \n  \n  \n 
URL:https://redasesoresinmobiliarios.com/evento/curso-la-etica-como-forma-de-vida-en-el-ambito-inmobiliario/
LOCATION:Hotel Wyndham Angelópolis\, Av Zeta del Cochero 403\, Reserva Territorial Atlixcáyotl\, Corredor Comercial Desarrollo Atlixcayotl\, Puebla\, Puebla\, 72810\, México
CATEGORIES:Desayuno/Capacitación
ATTACH;FMTTYPE=image/jpeg:https://redasesoresinmobiliarios.com/wp-content/uploads/2023/03/la-etica-como-forma-de-vida-en-el-ambito-inmobiliario_300.jpeg
END:VEVENT
END:VCALENDAR