BEGIN:VCALENDAR
VERSION:2.0
PRODID:-//Red Asesores Inmobiliarios - ECPv6.15.20//NONSGML v1.0//EN
CALSCALE:GREGORIAN
METHOD:PUBLISH
X-WR-CALNAME:Red Asesores Inmobiliarios
X-ORIGINAL-URL:https://redasesoresinmobiliarios.com
X-WR-CALDESC:Eventos para Red Asesores Inmobiliarios
REFRESH-INTERVAL;VALUE=DURATION:PT1H
X-Robots-Tag:noindex
X-PUBLISHED-TTL:PT1H
BEGIN:VTIMEZONE
TZID:America/Mexico_City
BEGIN:DAYLIGHT
TZOFFSETFROM:-0600
TZOFFSETTO:-0500
TZNAME:CDT
DTSTART:20210404T080000
END:DAYLIGHT
BEGIN:STANDARD
TZOFFSETFROM:-0500
TZOFFSETTO:-0600
TZNAME:CST
DTSTART:20211031T070000
END:STANDARD
BEGIN:DAYLIGHT
TZOFFSETFROM:-0600
TZOFFSETTO:-0500
TZNAME:CDT
DTSTART:20220403T080000
END:DAYLIGHT
BEGIN:STANDARD
TZOFFSETFROM:-0500
TZOFFSETTO:-0600
TZNAME:CST
DTSTART:20221030T070000
END:STANDARD
END:VTIMEZONE
BEGIN:VEVENT
DTSTART;TZID=America/Mexico_City:20220125T083000
DTEND;TZID=America/Mexico_City:20220125T110000
DTSTAMP:20260425T220342
CREATED:20220118T171740Z
LAST-MODIFIED:20220118T232334Z
UID:30043-1643099400-1643108400@redasesoresinmobiliarios.com
SUMMARY:Capacitación para Inmobiliarios - Enero 2022
DESCRIPTION:Red Asesores Inmobiliarios te invita al desayuno-capacitación del mes de ENERO 2022: \nTema: “Régimen Simplificado de Confianza para Inmobiliarios” \nPonente: Lic. Bruno Lee Taveira Da Costa Pechir – Corpus Lex \nAGENDA: \n8:30 am – Inicia registro \n9:00 am – Régimen Simplificado de Confianza para Inmobiliarios – Ponente: Lic. Bruno Lee Taveira Da Costa Pechir \n  \nCostos: \nAsociados $ 230.00 – Reserva AQUÍ \nInvitados $ 275.00 – Reserva AQUÍ \n  \nFavor de realizar tu pago con anticipación pago tienes hasta las 18:00 hrs del lunes 24 de enero 2022. CUPO LIMITADO \nEl día del evento no se aceptan pagos. \nSE RECOMINEDA LLEGAR AL EVENTO CON ANTICIPACIÓN YA QUE TENEMOS QUE SEGUIR LOS PROTOCOLOS DE PREVENCIÓN COVID-19
URL:https://redasesoresinmobiliarios.com/evento/capacitacion-para-inmobiliarios-enero-2022/
LOCATION:Restaurante Sandwichisimo – Huexotitla\, 43 Poniente # 710\, Puebla\, Puebla\, 72420\, México
CATEGORIES:Desayuno/Capacitación
ATTACH;FMTTYPE=image/jpeg:https://redasesoresinmobiliarios.com/wp-content/uploads/2022/01/600-X-315-PX.jpg
END:VEVENT
END:VCALENDAR