BEGIN:VCALENDAR
VERSION:2.0
PRODID:-//Red Asesores Inmobiliarios - ECPv6.15.20//NONSGML v1.0//EN
CALSCALE:GREGORIAN
METHOD:PUBLISH
X-WR-CALNAME:Red Asesores Inmobiliarios
X-ORIGINAL-URL:https://redasesoresinmobiliarios.com
X-WR-CALDESC:Eventos para Red Asesores Inmobiliarios
REFRESH-INTERVAL;VALUE=DURATION:PT1H
X-Robots-Tag:noindex
X-PUBLISHED-TTL:PT1H
BEGIN:VTIMEZONE
TZID:America/Mexico_City
BEGIN:DAYLIGHT
TZOFFSETFROM:-0600
TZOFFSETTO:-0500
TZNAME:CDT
DTSTART:20210404T080000
END:DAYLIGHT
BEGIN:STANDARD
TZOFFSETFROM:-0500
TZOFFSETTO:-0600
TZNAME:CST
DTSTART:20211031T070000
END:STANDARD
BEGIN:DAYLIGHT
TZOFFSETFROM:-0600
TZOFFSETTO:-0500
TZNAME:CDT
DTSTART:20220403T080000
END:DAYLIGHT
BEGIN:STANDARD
TZOFFSETFROM:-0500
TZOFFSETTO:-0600
TZNAME:CST
DTSTART:20221030T070000
END:STANDARD
END:VTIMEZONE
BEGIN:VEVENT
DTSTART;TZID=America/Mexico_City:20220215T083000
DTEND;TZID=America/Mexico_City:20220215T103000
DTSTAMP:20260425T205458
CREATED:20220210T175334Z
LAST-MODIFIED:20220212T190309Z
UID:30315-1644913800-1644921000@redasesoresinmobiliarios.com
SUMMARY:Capacitación para Inmobiliarios – Febrero 2022
DESCRIPTION:Red Asesores Inmobiliarios te invita al desayuno-capacitación del mes de FEBRERO 2022: \nTema: “Régimen de Propiedad en Condominio” \nPonente: Lic. Rodrigo De Unanue Solana – Notaria Publica # 9 \nAGENDA: \n8:30 am – Inicia registro \n9:00 am – “Régimen de Propiedad en Condominio” – Ponente: Lic. Rodrigo De Unanue Solana \n  \nCostos: \nAsociados $ 230.00 \nPara pagos con tarjeta\, efectivo (OXXO\, 7 eleven\, Soriana\, Circle K\, Extra o Santander) y PayPal haz click AQUÍ \nPara transferencia electrónica a BANORTE a nombre de REDIM PUEBLA\, A.C. CLABE: 0726-5001-0879-7721-60 enviar comprobante de depósito con tu nombre a Alicia López al (222) 651-1899 o click aquí \nInvitados $ 275.00 \nPara pagos con tarjeta\, efectivo (OXXO\, 7 eleven\, Soriana\, Circle K\, Extra o Santander) y PayPal haz click AQUÍ \nPara transferencia electrónica a BANORTE a nombre de REDIM PUEBLA\, A.C. CLABE: 0726-5001-0879-7721-60 enviar comprobante de depósito con tu nombre a Alicia López al (222) 651-1899 o click aquí \n  \nFavor de realizar tu pago con anticipación. Tienes hasta las 20:00 hrs del lunes 14 de febrero 2022. CUPO LIMITADO \nEl día del evento no se aceptan pagos. \nSE RECOMINEDA LLEGAR AL EVENTO CON ANTICIPACIÓN YA QUE TENEMOS QUE SEGUIR LOS PROTOCOLOS DE PREVENCIÓN COVID-19
URL:https://redasesoresinmobiliarios.com/evento/capacitacion-para-inmobiliarios-febrero-2022/
LOCATION:Restaurante Sandwichisimo – Huexotitla\, 43 Poniente # 710\, Puebla\, Puebla\, 72420\, México
CATEGORIES:Desayuno/Capacitación
ATTACH;FMTTYPE=image/jpeg:https://redasesoresinmobiliarios.com/wp-content/uploads/2022/02/Desayuno-capacitacion-inmobiliarios-febrero-2022-600-x-315-px.jpg
END:VEVENT
END:VCALENDAR