BEGIN:VCALENDAR
VERSION:2.0
PRODID:-//Red Asesores Inmobiliarios - ECPv6.15.20//NONSGML v1.0//EN
CALSCALE:GREGORIAN
METHOD:PUBLISH
X-ORIGINAL-URL:https://redasesoresinmobiliarios.com
X-WR-CALDESC:Eventos para Red Asesores Inmobiliarios
REFRESH-INTERVAL;VALUE=DURATION:PT1H
X-Robots-Tag:noindex
X-PUBLISHED-TTL:PT1H
BEGIN:VTIMEZONE
TZID:America/Mexico_City
BEGIN:DAYLIGHT
TZOFFSETFROM:-0600
TZOFFSETTO:-0500
TZNAME:CDT
DTSTART:20220403T080000
END:DAYLIGHT
BEGIN:STANDARD
TZOFFSETFROM:-0500
TZOFFSETTO:-0600
TZNAME:CST
DTSTART:20221030T070000
END:STANDARD
END:VTIMEZONE
BEGIN:VEVENT
DTSTART;TZID=America/Mexico_City:20230216T093000
DTEND;TZID=America/Mexico_City:20230216T113000
DTSTAMP:20260425T050055
CREATED:20230213T153739Z
LAST-MODIFIED:20230213T155402Z
UID:35965-1676539800-1676547000@redasesoresinmobiliarios.com
SUMMARY:Prepara Tu Inmobiliaria Para El Metaverso
DESCRIPTION:El jueves 16 de febrero a las 9:30am se impartirá la conferencia: \nPrepara Tu Inmobiliaria Para El Metaverso \ndónde podrás aprender cómo aplicarlo hoy en día\, tips y conceptos básicos del METAVERSO y como te puede ayudar desde YA en tu labor de promoción inmobiliaria. \n  \nSera en IOS Offices de Blvd. Atlixcayotl \n  \nEvento GRATUITO con duración de dos horas. \nCUPO LIMITADO \nEs importante reservar tu lugar dando click 👉 AQUÍ  \n  \nEvento organizado por Omar Martín\, CEO de Tour Residencial. \n  \n  \n  \n  \n  \n  \n  \n  \n 
URL:https://redasesoresinmobiliarios.com/evento/prepara-tu-inmobiliaria-para-el-metaverso/
LOCATION:IOS OFFICES City Angelópolis\,  Atlixcáyotl 1499\, Col. Reserva Territorial Atlixcáyotl\, PISO 3\, San Andrés Cholula\, Puebla\, 72810\, México
CATEGORIES:Capacitación
ATTACH;FMTTYPE=image/jpeg:https://redasesoresinmobiliarios.com/wp-content/uploads/2023/02/metaverso-en-Puebla.jpg
END:VEVENT
BEGIN:VEVENT
DTSTART;TZID=America/Mexico_City:20230228T083000
DTEND;TZID=America/Mexico_City:20230228T103000
DTSTAMP:20260425T050055
CREATED:20230216T002401Z
LAST-MODIFIED:20230228T022920Z
UID:36002-1677573000-1677580200@redasesoresinmobiliarios.com
SUMMARY:Desayuno Capacitación para Inmobiliarios - 28 de Febrero 2023
DESCRIPTION:En Red Asesores Inmobiliarios en sinergia inmobiliaria con ADAGI y BOLSA INMOBILIARIA nos complace invitarlos al Desayuno Capacitación de Febrero 2023 en el cual estaremos abordando un tema de gran importancia: \n“EL EJIDO” \nContaremos con la presencia del Lic. Hugo Morales\, como ponente\, miembro certificado de la Barra Mexicana de Abogados\, Capítulo Puebla\, A.C.\, quien es Licenciado en Derecho y se especializa en Derecho Agrario. El Lic. Morales compartirá con nosotros su conocimiento y experiencia en el tema de Ejido\, y nos brindará valiosas herramientas y recomendaciones para hacer frente a los desafíos que pueden presentarse en esta área. \nEste desayuno capacitación es una excelente oportunidad para ampliar nuestros conocimientos y establecer contactos con otros profesionales del área. \nEsperamos contar con su presencia y participación activa en este evento. \n  \nRecuerda que tenemos nueva sede: Wyndham Puebla Angelópolis (mapa) \nNUEVA FECHA MARTES 28 DE FEBRERO 2023\nAGENDA: \n8:30 am – Inicia registro \n9:00 am – Presentación del tema: EJIDOS \n  \nFavor de realizar su pago con anticipación tenemos CUPO LIMITADO. \nEl día del evento no se aceptan pagos. \n  \nCosto (incluye desayuno): \nAsociados $ 220.00 \nInvitados $ 270.00 \n  \nCUPO LLENO \nCUPO LLENO \n  \nInformes: (222) 299-2928 \n  \n  \n  \n  \n  \n  \n  \n 
URL:https://redasesoresinmobiliarios.com/evento/desayuno-capacitacion-para-inmobiliarios-febrero-2023/
LOCATION:Hotel Wyndham Angelópolis\, Av Zeta del Cochero 403\, Reserva Territorial Atlixcáyotl\, Corredor Comercial Desarrollo Atlixcayotl\, Puebla\, Puebla\, 72810\, México
CATEGORIES:Desayuno/Capacitación
ATTACH;FMTTYPE=image/jpeg:https://redasesoresinmobiliarios.com/wp-content/uploads/2023/02/Desayuno-capacitacion-Inmobiliarios-Puebla-600x317-sinergia-inmobiliaria.jpg
END:VEVENT
END:VCALENDAR