BEGIN:VCALENDAR
VERSION:2.0
PRODID:-//Red Asesores Inmobiliarios - ECPv6.15.20//NONSGML v1.0//EN
CALSCALE:GREGORIAN
METHOD:PUBLISH
X-WR-CALNAME:Red Asesores Inmobiliarios
X-ORIGINAL-URL:https://redasesoresinmobiliarios.com
X-WR-CALDESC:Eventos para Red Asesores Inmobiliarios
REFRESH-INTERVAL;VALUE=DURATION:PT1H
X-Robots-Tag:noindex
X-PUBLISHED-TTL:PT1H
BEGIN:VTIMEZONE
TZID:America/Mexico_City
BEGIN:DAYLIGHT
TZOFFSETFROM:-0600
TZOFFSETTO:-0500
TZNAME:CDT
DTSTART:20220403T080000
END:DAYLIGHT
BEGIN:STANDARD
TZOFFSETFROM:-0500
TZOFFSETTO:-0600
TZNAME:CST
DTSTART:20221030T070000
END:STANDARD
END:VTIMEZONE
BEGIN:VEVENT
DTSTART;TZID=America/Mexico_City:20231205T150000
DTEND;TZID=America/Mexico_City:20231205T150000
DTSTAMP:20260421T103255
CREATED:20231120T172255Z
LAST-MODIFIED:20231120T172544Z
UID:42927-1701788400-1701788400@redasesoresinmobiliarios.com
SUMMARY:Taquiza - Posada Navideña para Inmobiliarios en Puebla
DESCRIPTION:¡La última y nos vamos… celebremos los logros para toda la comunidad inmobiliaria en Puebla!! 🎉🏡 \n  \nRed Asesores Inmobiliarios se complace en invitarlos a nuestra taquiza – posada NAVIDEÑA. Será una tarde llena de alegría\, networking y celebración. 🎄🤝🎉 \n  \nDetalles del evento: \n  \n📆 Fecha: 5 de diciembre de 2023 \n⏳Hora: 3:00 pm \n📍Lugar: Jardín “El Padrino” – Zona Zavaleta (mapa: https://maps.app.goo.gl/TGnzRAHLQpevhtbBA ) \n🎟️Costo del boleto por persona: $300.00 (pago solo en efectivo) \n  \n  \nPara adquirir tus boletos\, comunícate con cualquiera de nuestros organizadores: \n\nMabel: 222 135 1957\nMoni: 222 299 2928\nBere: 222 192 1660\nGrace: 222 750 5523\nAlicia: 222 651 1899\nJoss: 222 149 1640\nRosario: 222 166 7972\nVicente: 222 152 7401\nPaco: 222 167 6784\n\n  \n¡Cupo limitado\, así que asegúrate de reservar tu lugar cuanto antes! 🎫🔒 \n  \nAdemás de disfrutar de una deliciosa taquiza – posada navideña\, habrá regalos sorpresa\, piñatas\, descorche gratis y la oportunidad de conectarte con colegas del sector inmobiliario en un ambiente festivo y relajado. 🎁🍾 \n  \nCelebremos juntos los logros del año que termina y brindemos por un futuro lleno de éxitos. 🥂🎊 \n  \n¡Esperamos verte en este evento único para la comunidad inmobiliaria de Puebla! ¡No te pierdas la oportunidad de cerrar el año con alegría y buena compañía! \n  \n  \n#CelebraciónInmobiliaria #NavidadEnPuebla #RedAsesoresInmobiliarios \n 
URL:https://redasesoresinmobiliarios.com/evento/taquiza-posada-navidena-inmobiliarios/
LOCATION:Puebla
CATEGORIES:Otro(s)
ATTACH;FMTTYPE=image/jpeg:https://redasesoresinmobiliarios.com/wp-content/uploads/2023/11/taquiza-navidena-SQ_300-jpg.webp
END:VEVENT
END:VCALENDAR