BEGIN:VCALENDAR
VERSION:2.0
PRODID:-//Red Asesores Inmobiliarios - ECPv6.15.20//NONSGML v1.0//EN
CALSCALE:GREGORIAN
METHOD:PUBLISH
X-ORIGINAL-URL:https://redasesoresinmobiliarios.com
X-WR-CALDESC:Eventos para Red Asesores Inmobiliarios
REFRESH-INTERVAL;VALUE=DURATION:PT1H
X-Robots-Tag:noindex
X-PUBLISHED-TTL:PT1H
BEGIN:VTIMEZONE
TZID:America/Mexico_City
BEGIN:STANDARD
TZOFFSETFROM:-0600
TZOFFSETTO:-0600
TZNAME:CST
DTSTART:20230101T000000
END:STANDARD
END:VTIMEZONE
BEGIN:VEVENT
DTSTART;TZID=America/Mexico_City:20240503T081500
DTEND;TZID=America/Mexico_City:20240503T100000
DTSTAMP:20260421T045203
CREATED:20240430T161948Z
LAST-MODIFIED:20240503T003735Z
UID:49379-1714724100-1714730400@redasesoresinmobiliarios.com
SUMMARY:Capacitación: "Ley del Agua"
DESCRIPTION:¡Atención asociados de Red Asesores Inmobiliarios! \nÚnete a nosotros para dar seguimiento a nuestra última capacitación con un tema crucial: \n“LEY DEL AGUA” \n🎙️ Ponente: Mtra. Rosa Aurora Pérez López \n🗓️ Fecha: Viernes 3 de mayo 2024 \n⏰ Horario: Registro a las 8:15 am. Plática de 8:30 am a 10:00 am \n🏢 Lugar: Agua de Puebla – San Manuel (Río Grijalva 5310\, Jardines de San Manuel) \n  \n¡No te pierdas esta oportunidad de aprender y crecer en tu negocio! 📈 \n  \nEvento SIN COSTO Y EXCLUSIVO PARA ASOCIADOS DE RED ASESORES INMOBILIARIOS. \n¡cupo limitado! \nCUPO LLENO – CUPO LLENO – CUPO LLENO
URL:https://redasesoresinmobiliarios.com/evento/capacitacion-ley-del-agua/
LOCATION:Puebla
CATEGORIES:Capacitación
ATTACH;FMTTYPE=image/jpeg:https://redasesoresinmobiliarios.com/wp-content/uploads/2024/04/capacitacion-mayo-3_300.jpg
END:VEVENT
BEGIN:VEVENT
DTSTART;TZID=America/Mexico_City:20240521T081500
DTEND;TZID=America/Mexico_City:20240521T103000
DTSTAMP:20260421T045203
CREATED:20240422T165646Z
LAST-MODIFIED:20240518T182422Z
UID:49117-1716279300-1716287400@redasesoresinmobiliarios.com
SUMMARY:Desayuno - capacitación MAYO 2024
DESCRIPTION:Red Asesores Inmobiliarios les invita cordialmente al desayuno capacitación del mes de mayo 2024. \nTema: “Gestión en la zona de monumentos”\npresentado por la Mtra. Arq. Rocío Margarita Carrasco Torres – Jefa del Departamento de Regulación de la Zona de Monumentos y Áreas Patrimoniales de la Gerencia del Centro Histótico y Patrimonio Cultural. \n  \n  \nAlgunos trámites que realiza la Gerencia del Centro Histórico de Puebla son: \n\nFusión y segregación de predios – Optimiza la administración de tus propiedades.\nFactibilidad Integral – Incluye factibilidades de obra mayor y menor\, demolición\, y uso de suelo para construcción. ¡Todo lo que necesitas para desarrollar tus proyectos respetando nuestro patrimonio!\nOpinión técnica – Asesoría para intervenciones en Zonas de Monumentos y Áreas Patrimoniales.\nUso específico de suelo – Para que tu negocio funcione en armonía con el entorno histórico.\n\n  \nAgenda: \n8:15 am – Inicio de registro \n8:30 am – Presentación de proyecto ganador de la categoría de Vivienda\, modalidad Profesionistas de la segunda edición “Rehabilita & Habita. Nuevas perspectivas para el Centro Histórico de Puebla” \n9:00 am – Presentación del tema:  “Gestión en la zona de monumentos” \n  \n🗓 Fecha: Martes 21 de mayo 2024 \n🕒 Hora: Registro a las 8:15 AM\, inicio a las 9:00 AM \n📍 Lugar: Hotel Wyndham Puebla Angelópolis \n💰 Costos: \nAsociados $260.00 \nNo asociados $300.00 \n  \nCupo limitado. Es esencial realizar tu pago y registro antes del viernes 17 de mayo 2024. \n¡No pierdan la oportunidad de enriquecer sus conocimientos y redes! 💼✨ \n  \nCUPO LLENO – CUPO LLENO – CUPO LLENO\n 
URL:https://redasesoresinmobiliarios.com/evento/desayuno-capacitacion-mayo-2024/
LOCATION:Hotel Wyndham Angelópolis\, Av Zeta del Cochero 403\, Reserva Territorial Atlixcáyotl\, Corredor Comercial Desarrollo Atlixcayotl\, Puebla\, Puebla\, 72810\, México
CATEGORIES:Desayuno/Capacitación
ATTACH;FMTTYPE=image/jpeg:https://redasesoresinmobiliarios.com/wp-content/uploads/2024/04/gestion-zona-de-monumentos-puebla-21-de-mayo_300.jpg
END:VEVENT
END:VCALENDAR